BEGIN:VCALENDAR
VERSION:2.0
PRODID:-//wp-events-plugin.com//7.2.3.1//EN
TZID:Europe/Paris
X-WR-TIMEZONE:Europe/Paris
BEGIN:VEVENT
UID:149@deesses-grenoble.fr
DTSTART;TZID=Europe/Paris:20240416T183000
DTEND;TZID=Europe/Paris:20240416T200000
DTSTAMP:20240329T110216Z
URL:https://deesses-grenoble.fr/evenements/atelier-en-finir-avec-les-aller
 gies-grace-au-biodecodage/
SUMMARY:[ATELIER] En FINIR avec les allergies (grâce au biodécodage !)
DESCRIPTION:Et si tes allergies pouvaient se faire la malle même à l'arri
 vée du printemps ?\n\nEt si ces aliments que tu redoutes pouvaient ne plu
 s être un problème pour ton organisme ?\n\nGrâce au biodécodage\, c'es
 t ce qu'on explore ! Le biodécodage\, ou décodage biologique\, est une p
 ratique complémentaire à la médecine conventionnelle qui s'intéresse a
 u sens et à l'origine de la maladie en faisant le lien entre les symptôm
 es et les émotions qui peuvent être à l'origine de celle-ci.\n\nLes mau
 x qu'exprime le corps\, par le langage des symptômes\, correspondent à u
 n besoin précis qui n'a pu être satisfait à un instant précis. La solu
 tion est alors "bio-logique". C'est le corps qui s'adapte à notre place. 
 La maladie devient alors la solution virtuelle d'adaptation d'un instant d
 u passé qui n'a pu être dépassé au niveau psychique. Par l'expression 
 de ses symptômes\, la maladie tente de nous délivrer un message que le d
 écodage biologique va décoder et tenter d'y apporter une réponse adapt
 ée pour faciliter le retour à la santé.\n\nVoici un atelier pour vous e
 xpliquer le décodage biologique et ses hypothèses concernant les allergi
 es\, si différentes et/ou anciennes soient-elles.\n\nAlors si tu veux en 
 savoir plus sur leurs mécanismes et peut-être comprendre leur origine\, 
 tu es le.la bienvenu.e !
ATTACH;FMTTYPE=image/jpeg:https://deesses-grenoble.fr/wp-content/uploads/2
 024/03/carolina-heza-zwPYmB1GlNE-unsplash-scaled.jpg
CATEGORIES:Atelier
END:VEVENT
BEGIN:VTIMEZONE
TZID:Europe/Paris
X-LIC-LOCATION:Europe/Paris
BEGIN:DAYLIGHT
DTSTART:20240331T030000
TZOFFSETFROM:+0100
TZOFFSETTO:+0200
TZNAME:CEST
END:DAYLIGHT
END:VTIMEZONE
END:VCALENDAR